Workbook
Name StartDate: 'CashFlow Proj 24-M'!$D$6
Name StartDate: #REF!

Sheet Instructions
B2: Mohammed Bin Rashid Fund for SME
B4: Cash flow Template Instructions
B6: 1) Go to the ‘Sales & Costing Assumptions’ sheet.
B7: 2) Under the price table, enter the details of the product/ service sold. Please include all products/ services offered as per the business plan and the average price.
B8: 3) Corresponding to the price table is the costing table. Include the same list of products and the direct variable costs (materials) consumed in producing a unit of the product. For service related industries, this tends a minor component or zero depending on the business model. Staff commission aligned to sales would be a part of this.
B9: 4) Since cashflow projections for 24 months is required, input the expected number of products/ services for each particular product/ service for 24 months.
B10: 5) Monthly revenue would be calculated based on the formulas in place. If there are more products/ services added other than the ones mentioned on the template, replicate the same formula for the product/ service added.
B11: 6) Monthly direct variable costs would be calculated based on the formulas in place. If there are more products/ services other than the ones mentioned on the template, replicate the same formula for the product/ service added.
B12: 7) Next, move onto the ‘Expenses Assumptions’ sheet. Kindly fill in the budgets for the expenses mentioned. The frequency of the expense is mentioned as either monthly, quarterly or annually. Please note that based on past experiences we have added as many expenses as possible on the template. Hence, there is no need to fill out all expenses; only fill out what is relevant to your particular business. Similarly, if there are any expenses not covered by the template, please add it as a new row under the ‘Expenses Assumptions sheet’ and link it to the ‘Cashflow Proj 24-M’ sheet. The mentioned expenses on the template are already linked to the main ‘Cashflow Proj 24-M’ sheet numbered in the same order as the ‘Expenses Assumptions’ sheet.
B13: 8) Thereafter, move on to the ‘Staffing Plan’ sheet. Firstly, input the designation of the staff that will be hired and the expected monthly salary payout to staff. It is evident that the staffing plan is for 24 months to be in line with the 24-month cashflow projections. With respect to each designation planning to hire, input the number of staff that will be onboarded and in which month they will be hired. Based on the formulas in place, the total monthly salary payout and the total monthly staff recruitment costs will be calculated.
B14: 9) Finally, move to the ‘Total Project Cost’ sheet. Enter all the capital expenses and their respective amounts in the ‘Total Project Cost Amount’ column. Leave the MBRF Loan column blank since there is a formula in place to calculate it. If any amount is already spent by yourself, please include that amount under ‘Equity already contributed by applicant’ column or if you are planning to cover the expense yourself in the future (partially or fully), enter the respective amount on the ‘Equity yet to be contributed by applicant’ column. MBRF Loan amount will be calculated automatically. The same will be applied for pre-operating and operating expenses. Kindly note that operating expenses only up to a maximum of six months can be considered for funding by MBRF.
B15: 10) When all inputs are fed, numbers such as Total Project Cost, MBRF Loan and Equity will be computed. Please ensure that the MBRF Loan is 80% or lesser of the Total Project Cost. If not, add a higher contribution to the equity column in order to reduce the loan amount. Also, do note that the maximum loan amount that can availed by MBRF is as follows: Seed Capital - AED 1 Million Expansion Financing - AED 1 Million Asset Financing (Green Field) - AED 300,000 Asset Financing (Brown Field) - AED 1 Million Term Financing - AED 500,000

Sheet CashFlow Proj 24-M
C2: Mohammed Bin Rashid Fund for SME
C3: 24-Month Cash Flow Projections
C4: [NAME OF THE COMPANY]
C6: Starting date
F7: =$D$7 -> 0 | G7: =$D$7 -> 0 | H7: =$D$7 -> 0 | I7: =$D$7 -> 0 | J7: =$D$7 -> 0 | K7: =$D$7 -> 0 | L7: =$D$7 -> 0 | M7: =$D$7 -> 0 | ... Q7: =$D$7 -> 0
D8: Equity Contributions + Loan | E8: Pre- Opex Period | F8: MONTH - 1 | G8: MONTH - 2 | H8: MONTH - 3 | I8: MONTH - 4 | J8: MONTH - 5 | K8: MONTH - 6 | L8: MONTH - 7 | M8: MONTH - 8 | N8: MONTH - 9 | O8: MONTH - 10 | P8: MONTH - 11 | Q8: MONTH - 12 | R8: MONTH - 13 | S8: MONTH - 14 | T8: MONTH - 15 | U8: MONTH - 16 | V8: MONTH - 17 | W8: MONTH - 18 | X8: MONTH - 19 | Y8: MONTH - 20 | Z8: MONTH - 21 | AA8: MONTH - 22 | AB8: MONTH - 23 | AC8: MONTH - 24 | AD8: Total
C9: Cash on hand (beginning of month) | D9: 0 | E9: =D55 -> 0 | F9: =E55 -> 0 | G9: =F55 -> 0 | H9: =G55 -> 0 | I9: =H55 -> 0 | J9: =I55 -> 0 | K9: =J55 -> 0 | L9: =K55 -> 0 | ... AC9: =AB55 -> 0 | AD9: 0
C11: CASH RECEIPTS
C12: Revenue | F12: ='Sales & Costing Assumptions'!C29 -> 0 | G12: ='Sales & Costing Assumptions'!D29 -> 0 | H12: ='Sales & Costing Assumptions'!E29 -> 0 | I12: ='Sales & Costing Assumptions'!F29 -> 0 | J12: ='Sales & Costing Assumptions'!G29 -> 0 | K12: ='Sales & Costing Assumptions'!H29 -> 0 | L12: ='Sales & Costing Assumptions'!I29 -> 0 | M12: ='Sales & Costing Assumptions'!J29 -> 0 | ... Q12: ='Sales & Costing Assumptions'!N29 -> 0 | R12: ='Sales & Costing Assumptions'!R29 -> 0 | S12: ='Sales & Costing Assumptions'!S29 -> 0 | T12: ='Sales & Costing Assumptions'!T29 -> 0 | U12: ='Sales & Costing Assumptions'!U29 -> 0 | V12: ='Sales & Costing Assumptions'!V29 -> 0 | W12: ='Sales & Costing Assumptions'!W29 -> 0 | X12: ='Sales & Costing Assumptions'!X29 -> 0 | Y12: ='Sales & Costing Assumptions'!Y29 -> 0 | ... AC12: ='Sales & Costing Assumptions'!AC29 -> 0 | AD12: =SUM(F12:AC12) -> 0
C14: VAT on revenue @5% | F14: =F12*0.05 -> 0 | G14: =G12*0.05 -> 0 | H14: =H12*0.05 -> 0 | I14: =I12*0.05 -> 0 | J14: =J12*0.05 -> 0 | K14: =K12*0.05 -> 0 | L14: =L12*0.05 -> 0 | M14: =M12*0.05 -> 0 | ... AC14: =AC12*0.05 -> 0 | AD14: =SUM(F14:AC14) -> 0
C16: Equity + Loan Contributions | D16: ='Total Project Cost'!C56 -> 0 | AD16: =SUM(D16:AC16) -> 0
C18: TOTAL CASH RECEIPTS | D18: =SUM(D12:D17) -> 0 | E18: =SUM(E12:E17) -> 0 | F18: =SUM(F12:F17) -> 0 | G18: =SUM(G12:G17) -> 0 | H18: =SUM(H12:H17) -> 0 | I18: =SUM(I12:I17) -> 0 | J18: =SUM(J12:J17) -> 0 | K18: =SUM(K12:K17) -> 0 | ... AD18: =SUM(AD12:AD17) -> 0
C19: Total cash available | D19: =D18+D9 -> 0 | E19: =E18+E9 -> 0 | F19: =F18+F9 -> 0 | G19: =G18+G9 -> 0 | H19: =H18+H9 -> 0 | I19: =I18+I9 -> 0 | J19: =J18+J9 -> 0 | K19: =K18+K9 -> 0 | ... AC19: =AC18+AC9 -> 0 | AD19: =AD18 -> 0
C21: CASH PAID OUT
C22: VAT on supplies | F22: =(F24+F25+F31+F32+F34+F35+F36+F37+F38+F39+F40+F41+F42+F43+F44)*0.05 -> 0 | G22: =(G24+G25+G31+G32+G34+G35+G36+G37+G38+G39+G40+G41+G42+G43+G44)*0.05 -> 0 | H22: =(H24+H25+H31+H32+H34+H35+H36+H37+H38+H39+H40+H41+H42+H43+H44)*0.05 -> 0 | I22: =(I24+I25+I31+I32+I34+I35+I36+I37+I38+I39+I40+I41+I42+I43+I44)*0.05 -> 0 | J22: =(J24+J25+J31+J32+J34+J35+J36+J37+J38+J39+J40+J41+J42+J43+J44)*0.05 -> 0 | K22: =(K24+K25+K31+K32+K34+K35+K36+K37+K38+K39+K40+K41+K42+K43+K44)*0.05 -> 0 | L22: =(L24+L25+L31+L32+L34+L35+L36+L37+L38+L39+L40+L41+L42+L43+L44)*0.05 -> 0 | M22: =(M24+M25+M31+M32+M34+M35+M36+M37+M38+M39+M40+M41+M42+M43+M44)*0.05 -> 0 | ... AC22: =(AC24+AC25+AC31+AC32+AC34+AC35+AC36+AC37+AC38+AC39+AC40+AC41+AC42+AC43+AC44)*0.05 -> 0 | AD22: =SUM(E22:AC22) -> 0
C23: Variable Costs
C24: Cost of goods/ services sold | F24: =-'Sales & Costing Assumptions'!C37 -> 0 | G24: =-'Sales & Costing Assumptions'!D37 -> 0 | H24: =-'Sales & Costing Assumptions'!E37 -> 0 | I24: =-'Sales & Costing Assumptions'!F37 -> 0 | J24: =-'Sales & Costing Assumptions'!G37 -> 0 | K24: =-'Sales & Costing Assumptions'!H37 -> 0 | L24: =-'Sales & Costing Assumptions'!I37 -> 0 | M24: =-'Sales & Costing Assumptions'!J37 -> 0 | ... Q24: =-'Sales & Costing Assumptions'!N37 -> 0 | R24: =-'Sales & Costing Assumptions'!R37 -> 0 | S24: =-'Sales & Costing Assumptions'!S37 -> 0 | T24: =-'Sales & Costing Assumptions'!T37 -> 0 | U24: =-'Sales & Costing Assumptions'!U37 -> 0 | V24: =-'Sales & Costing Assumptions'!V37 -> 0 | W24: =-'Sales & Costing Assumptions'!W37 -> 0 | X24: =-'Sales & Costing Assumptions'!X37 -> 0 | Y24: =-'Sales & Costing Assumptions'!Y37 -> 0 | ... AC24: =-'Sales & Costing Assumptions'!AC37 -> 0 | AD24: =SUM(E24:AC24) -> 0
C25: Bank Service Charges if applicable | F25: =-(F12+F14)*'Expenses Assumptions'!$F$71 -> 0 | G25: =-(G12+G14)*'Expenses Assumptions'!$F$71 -> 0 | H25: =-(H12+H14)*'Expenses Assumptions'!$F$71 -> 0 | I25: =-(I12+I14)*'Expenses Assumptions'!$F$71 -> 0 | J25: =-(J12+J14)*'Expenses Assumptions'!$F$71 -> 0 | K25: =-(K12+K14)*'Expenses Assumptions'!$F$71 -> 0 | L25: =-(L12+L14)*'Expenses Assumptions'!$F$71 -> 0 | M25: =-(M12+M14)*'Expenses Assumptions'!$F$71 -> 0 | ... AC25: =-(AC12+AC14)*'Expenses Assumptions'!$F$71 -> 0 | AD25: =SUM(E25:AC25) -> 0
C26: Fixed Costs
B27: 1 | C27: Rent (Office/ Warehouse/ Store) | F27: =-'Expenses Assumptions'!$C$10/12 -> 0 | G27: =-'Expenses Assumptions'!$C$10/12 -> 0 | H27: =-'Expenses Assumptions'!$C$10/12 -> 0 | I27: =-'Expenses Assumptions'!$C$10/12 -> 0 | J27: =-'Expenses Assumptions'!$C$10/12 -> 0 | K27: =-'Expenses Assumptions'!$C$10/12 -> 0 | L27: =-'Expenses Assumptions'!$C$10/12 -> 0 | M27: =-'Expenses Assumptions'!$C$10/12 -> 0 | ... AC27: =-'Expenses Assumptions'!$C$10/12 -> 0 | AD27: =SUM(E27:AC27) -> 0
C28: Salaries | F28: =-'Staffing Plan'!G33 -> 0 | G28: =-'Staffing Plan'!H33 -> 0 | H28: =-'Staffing Plan'!I33 -> 0 | I28: =-'Staffing Plan'!J33 -> 0 | J28: =-'Staffing Plan'!K33 -> 0 | K28: =-'Staffing Plan'!L33 -> 0 | L28: =-'Staffing Plan'!M33 -> 0 | M28: =-'Staffing Plan'!N33 -> 0 | ... AC28: =-'Staffing Plan'!AD33 -> 0 | AD28: =SUM(E28:AC28) -> 0
C29: Staff recruitment costs/ existing staff renewal | F29: =-'Staffing Plan'!E35 -> 0 | G29: =-'Staffing Plan'!F35 -> 0 | H29: =-'Staffing Plan'!G35 -> 0 | I29: =-'Staffing Plan'!H35 -> 0 | J29: =-'Staffing Plan'!I35 -> 0 | K29: =-'Staffing Plan'!J35 -> 0 | L29: =-'Staffing Plan'!K35 -> 0 | M29: =-'Staffing Plan'!L35 -> 0 | ... AC29: =-'Staffing Plan'!AB35 -> 0 | AD29: =SUM(E29:AC29) -> 0
B30: 2 | C30: Staff accomodation | F30: =-'Expenses Assumptions'!$C$12/12 -> 0 | G30: =-'Expenses Assumptions'!$C$12/12 -> 0 | H30: =-'Expenses Assumptions'!$C$12/12 -> 0 | I30: =-'Expenses Assumptions'!$C$12/12 -> 0 | J30: =-'Expenses Assumptions'!$C$12/12 -> 0 | K30: =-'Expenses Assumptions'!$C$12/12 -> 0 | L30: =-'Expenses Assumptions'!$C$12/12 -> 0 | M30: =-'Expenses Assumptions'!$C$12/12 -> 0 | ... AC30: =-'Expenses Assumptions'!$C$12/12 -> 0 | AD30: =SUM(E30:AC30) -> 0
B31: 3 | C31: Marketing and advertising | F31: =-'Expenses Assumptions'!$D$16/12 -> 0 | G31: =-'Expenses Assumptions'!$D$16/12 -> 0 | H31: =-'Expenses Assumptions'!$D$16/12 -> 0 | I31: =-'Expenses Assumptions'!$D$16/12 -> 0 | J31: =-'Expenses Assumptions'!$D$16/12 -> 0 | K31: =-'Expenses Assumptions'!$D$16/12 -> 0 | L31: =-'Expenses Assumptions'!$D$16/12 -> 0 | M31: =-'Expenses Assumptions'!$D$16/12 -> 0 | ... AC31: =-'Expenses Assumptions'!$D$16/12 -> 0 | AD31: =SUM(E31:AC31) -> 0
B32: 4 | C32: Business insurance | F32: =-'Expenses Assumptions'!$C$21/12 -> 0 | G32: =-'Expenses Assumptions'!$C$21/12 -> 0 | H32: =-'Expenses Assumptions'!$C$21/12 -> 0 | I32: =-'Expenses Assumptions'!$C$21/12 -> 0 | J32: =-'Expenses Assumptions'!$C$21/12 -> 0 | K32: =-'Expenses Assumptions'!$C$21/12 -> 0 | L32: =-'Expenses Assumptions'!$C$21/12 -> 0 | M32: =-'Expenses Assumptions'!$C$21/12 -> 0 | ... AC32: =-'Expenses Assumptions'!$C$21/12 -> 0 | AD32: =SUM(E32:AC32) -> 0
B33: 5 | C33: License renewal charges | F33: 0 | G33: 0 | H33: 0 | I33: 0 | J33: 0 | K33: 0 | L33: 0 | M33: 0 | N33: 0 | O33: 0 | P33: 0 | Q33: 0 | R33: 0 | S33: 0 | T33: 0 | U33: 0 | V33: 0 | W33: 0 | X33: 0 | Y33: 0 | Z33: 0 | AA33: 0 | AB33: 0 | AC33: 0 | AD33: =SUM(E33:AC33) -> 0
B34: 6 | C34: Utilities | F34: =-'Expenses Assumptions'!$C$34 -> 0 | G34: =-'Expenses Assumptions'!$C$34 -> 0 | H34: =-'Expenses Assumptions'!$C$34 -> 0 | I34: =-'Expenses Assumptions'!$C$34 -> 0 | J34: =-'Expenses Assumptions'!$C$34 -> 0 | K34: =-'Expenses Assumptions'!$C$34 -> 0 | L34: =-'Expenses Assumptions'!$C$34 -> 0 | M34: =-'Expenses Assumptions'!$C$34 -> 0 | ... AC34: =-'Expenses Assumptions'!$C$34 -> 0 | AD34: =SUM(E34:AC34) -> 0
B35: 7 | C35: Repairs and maintenance | F35: =-'Expenses Assumptions'!$E$47/12 -> 0 | G35: =-'Expenses Assumptions'!$E$47/12 -> 0 | H35: =-'Expenses Assumptions'!$E$47/12 -> 0 | I35: =-'Expenses Assumptions'!$E$47/12 -> 0 | J35: =-'Expenses Assumptions'!$E$47/12 -> 0 | K35: =-'Expenses Assumptions'!$E$47/12 -> 0 | L35: =-'Expenses Assumptions'!$E$47/12 -> 0 | M35: =-'Expenses Assumptions'!$E$47/12 -> 0 | ... AC35: =-'Expenses Assumptions'!$E$47/12 -> 0 | AD35: =SUM(E35:AC35) -> 0
B36: 8 | C36: Printing and stationery | F36: =-'Expenses Assumptions'!$C$51/12 -> 0 | G36: =-'Expenses Assumptions'!$C$51/12 -> 0 | H36: =-'Expenses Assumptions'!$C$51/12 -> 0 | I36: =-'Expenses Assumptions'!$C$51/12 -> 0 | J36: =-'Expenses Assumptions'!$C$51/12 -> 0 | K36: =-'Expenses Assumptions'!$C$51/12 -> 0 | L36: =-'Expenses Assumptions'!$C$51/12 -> 0 | M36: =-'Expenses Assumptions'!$C$51/12 -> 0 | ... AC36: =-'Expenses Assumptions'!$C$51/12 -> 0 | AD36: =SUM(E36:AC36) -> 0
B37: 9 | C37: Accounting Fees | F37: =-'Expenses Assumptions'!$C$53 -> 0 | G37: =-'Expenses Assumptions'!$C$53 -> 0 | H37: =-'Expenses Assumptions'!$C$53 -> 0 | I37: =-'Expenses Assumptions'!$C$53 -> 0 | J37: =-'Expenses Assumptions'!$C$53 -> 0 | K37: =-'Expenses Assumptions'!$C$53 -> 0 | L37: =-'Expenses Assumptions'!$C$53 -> 0 | M37: =-'Expenses Assumptions'!$C$53 -> 0 | ... AC37: =-'Expenses Assumptions'!$C$53 -> 0 | AD37: =SUM(E37:AC37) -> 0
B38: 10 | C38: Website domain and hosting fees | F38: =-('Expenses Assumptions'!$C$55+'Expenses Assumptions'!$C$57)/12 -> 0 | G38: =-('Expenses Assumptions'!$C$55+'Expenses Assumptions'!$C$57)/12 -> 0 | H38: =-('Expenses Assumptions'!$C$55+'Expenses Assumptions'!$C$57)/12 -> 0 | I38: =-('Expenses Assumptions'!$C$55+'Expenses Assumptions'!$C$57)/12 -> 0 | J38: =-('Expenses Assumptions'!$C$55+'Expenses Assumptions'!$C$57)/12 -> 0 | K38: =-('Expenses Assumptions'!$C$55+'Expenses Assumptions'!$C$57)/12 -> 0 | L38: =-('Expenses Assumptions'!$C$55+'Expenses Assumptions'!$C$57)/12 -> 0 | M38: =-('Expenses Assumptions'!$C$55+'Expenses Assumptions'!$C$57)/12 -> 0 | ... AC38: =-('Expenses Assumptions'!$C$55+'Expenses Assumptions'!$C$57)/12 -> 0 | AD38: =SUM(E38:AC38) -> 0
B39: 11 | C39: IOS and Playstore registration charges | F39: =-('Expenses Assumptions'!$C$60+'Expenses Assumptions'!$C$61)/12 -> 0 | G39: =-('Expenses Assumptions'!$C$60+'Expenses Assumptions'!$C$61)/12 -> 0 | H39: =-('Expenses Assumptions'!$C$60+'Expenses Assumptions'!$C$61)/12 -> 0 | I39: =-('Expenses Assumptions'!$C$60+'Expenses Assumptions'!$C$61)/12 -> 0 | J39: =-('Expenses Assumptions'!$C$60+'Expenses Assumptions'!$C$61)/12 -> 0 | K39: =-('Expenses Assumptions'!$C$60+'Expenses Assumptions'!$C$61)/12 -> 0 | L39: =-('Expenses Assumptions'!$C$60+'Expenses Assumptions'!$C$61)/12 -> 0 | M39: =-('Expenses Assumptions'!$C$60+'Expenses Assumptions'!$C$61)/12 -> 0 | ... AC39: =-('Expenses Assumptions'!$C$60+'Expenses Assumptions'!$C$61)/12 -> 0 | AD39: =SUM(E39:AC39) -> 0
B40: 12 | C40: Staff training expenses | F40: =-'Expenses Assumptions'!$C$63/12 -> 0 | G40: =-'Expenses Assumptions'!$C$63/12 -> 0 | H40: =-'Expenses Assumptions'!$C$63/12 -> 0 | I40: =-'Expenses Assumptions'!$C$63/12 -> 0 | J40: =-'Expenses Assumptions'!$C$63/12 -> 0 | K40: =-'Expenses Assumptions'!$C$63/12 -> 0 | L40: =-'Expenses Assumptions'!$C$63/12 -> 0 | M40: =-'Expenses Assumptions'!$C$63/12 -> 0 | ... AC40: =-'Expenses Assumptions'!$C$63/12 -> 0 | AD40: =SUM(E40:AC40) -> 0
B41: 13 | C41: Payment gateway maintenance fees | F41: =-'Expenses Assumptions'!$C$65/12 -> 0 | G41: =-'Expenses Assumptions'!$C$65/12 -> 0 | H41: =-'Expenses Assumptions'!$C$65/12 -> 0 | I41: =-'Expenses Assumptions'!$C$65/12 -> 0 | J41: =-'Expenses Assumptions'!$C$65/12 -> 0 | K41: =-'Expenses Assumptions'!$C$65/12 -> 0 | L41: =-'Expenses Assumptions'!$C$65/12 -> 0 | M41: =-'Expenses Assumptions'!$C$65/12 -> 0 | ... AC41: =-'Expenses Assumptions'!$C$65/12 -> 0 | AD41: =SUM(E41:AC41) -> 0
B42: 14 | C42: Website and application maintenance charges | F42: =-'Expenses Assumptions'!$C$67/12 -> 0 | G42: =-'Expenses Assumptions'!$C$67/12 -> 0 | H42: =-'Expenses Assumptions'!$C$67/12 -> 0 | I42: =-'Expenses Assumptions'!$C$67/12 -> 0 | J42: =-'Expenses Assumptions'!$C$67/12 -> 0 | K42: =-'Expenses Assumptions'!$C$67/12 -> 0 | L42: =-'Expenses Assumptions'!$C$67/12 -> 0 | M42: =-'Expenses Assumptions'!$C$67/12 -> 0 | ... AC42: =-'Expenses Assumptions'!$C$67/12 -> 0 | AD42: =SUM(E42:AC42) -> 0
B43: 15 | C43: Bank Charges Fixed Component | F43: =-'Expenses Assumptions'!$C$71 -> 0 | G43: =-'Expenses Assumptions'!$C$71 -> 0 | H43: =-'Expenses Assumptions'!$C$71 -> 0 | I43: =-'Expenses Assumptions'!$C$71 -> 0 | J43: =-'Expenses Assumptions'!$C$71 -> 0 | K43: =-'Expenses Assumptions'!$C$71 -> 0 | L43: =-'Expenses Assumptions'!$C$71 -> 0 | M43: =-'Expenses Assumptions'!$C$71 -> 0 | ... AC43: =-'Expenses Assumptions'!$C$71 -> 0 | AD43: =SUM(E43:AC43) -> 0
B44: 16 | C44: Miscellenous expenses | F44: =-'Expenses Assumptions'!$C$73/12 -> 0 | G44: =-'Expenses Assumptions'!$C$73/12 -> 0 | H44: =-'Expenses Assumptions'!$C$73/12 -> 0 | I44: =-'Expenses Assumptions'!$C$73/12 -> 0 | J44: =-'Expenses Assumptions'!$C$73/12 -> 0 | K44: =-'Expenses Assumptions'!$C$73/12 -> 0 | L44: =-'Expenses Assumptions'!$C$73/12 -> 0 | M44: =-'Expenses Assumptions'!$C$73/12 -> 0 | ... AC44: =-'Expenses Assumptions'!$C$73/12 -> 0 | AD44: =SUM(E44:AC44) -> 0
B45: 17 | C45: Franchise Fees | R45: ='Expenses Assumptions'!$C$75/12 -> 0 | S45: ='Expenses Assumptions'!$C$75/12 -> 0 | T45: ='Expenses Assumptions'!$C$75/12 -> 0 | U45: ='Expenses Assumptions'!$C$75/12 -> 0 | V45: ='Expenses Assumptions'!$C$75/12 -> 0 | W45: ='Expenses Assumptions'!$C$75/12 -> 0 | X45: ='Expenses Assumptions'!$C$75/12 -> 0 | Y45: ='Expenses Assumptions'!$C$75/12 -> 0 | ... AC45: ='Expenses Assumptions'!$C$75/12 -> 0 | AD45: =SUM(E45:AC45) -> 0
C46: Net VAT Payment/ Receipt | F46: =-(F14+F22) -> 0 | G46: =-(G14+G22) -> 0 | H46: =-(H14+H22) -> 0 | I46: =-(I14+I22) -> 0 | J46: =-(J14+J22) -> 0 | K46: =-(K14+K22) -> 0 | L46: =-(L14+L22) -> 0 | M46: =-(M14+M22) -> 0 | ... AC46: =-(AC14+AC22) -> 0 | AD46: =SUM(E46:AC46) -> 0
AD47: =SUM(E47:AC47) -> 0
...

Sheet Sales & Costing Assumptions
B1: Mohammed Bin Rashid Fund for SME
B2: Sales & Costing Assumptions
B3: [NAME OF THE COMPANY]
B4: Price | F4: Costing
B5: Details | C5: AED | F5: Details | G5: AED
B6: Product/ Service 1 | C6: 0 | F6: Cost of Product/Service 1 | G6: 0
B7: Product/ Service 2 | C7: 0 | F7: Cost of Product/Service 2 | G7: 0
B8: Product/ Service 3 | C8: 0 | F8: Cost of Product/Service 3 | G8: 0
B9: Product/ Service 4 | C9: 0 | F9: Cost of Product/Service 4 | G9: 0
B10: Product/ Service 5 | C10: 0 | F10: Cost of Product/Service 5 | G10: 0
C14: Month 1 | D14: Month 2 | E14: Month 3 | F14: Month 4 | G14: Month 5 | H14: Month 6 | I14: Month 7 | J14: Month 8 | K14: Month 9 | L14: Month 10 | M14: Month 11 | N14: Month 12 | O14: Year 1 Total | P14: Year 1 Average | R14: Month 13 | S14: Month 14 | T14: Month 15 | U14: Month 16 | V14: Month 17 | W14: Month 18 | X14: Month 19 | Y14: Month 20 | Z14: Month 21 | AA14: Month 22 | AB14: Month 23 | AC14: Month 24 | AD14: Year 2 Total | AE14: Year 2 Average
B16: Number of products/services sold in a month
B17: Product/ Service 1 | C17: 0 | D17: 0 | E17: 0 | F17: 0 | G17: 0 | H17: 0 | I17: 0 | J17: 0 | K17: 0 | L17: 0 | M17: 0 | N17: 0 | O17: =SUM(C17:N17) -> 0 | P17: =AVERAGE(C17:N17) -> 0 | R17: 0 | S17: 0 | T17: 0 | U17: 0 | V17: 0 | W17: 0 | X17: 0 | Y17: 0 | Z17: 0 | AA17: 0 | AB17: 0 | AC17: 0 | AD17: =SUM(R17:AC17) -> 0 | AE17: =AVERAGE(R17:AC17) -> 0
B18: Product/ Service 2 | C18: 0 | D18: 0 | E18: 0 | F18: 0 | G18: 0 | H18: 0 | I18: 0 | J18: 0 | K18: 0 | L18: 0 | M18: 0 | N18: 0 | O18: =SUM(C18:N18) -> 0 | P18: =AVERAGE(C18:N18) -> 0 | R18: 0 | S18: 0 | T18: 0 | U18: 0 | V18: 0 | W18: 0 | X18: 0 | Y18: 0 | Z18: 0 | AA18: 0 | AB18: 0 | AC18: 0 | AD18: =SUM(R18:AC18) -> 0 | AE18: =AVERAGE(R18:AC18) -> 0
B19: Product/ Service 3 | C19: 0 | D19: 0 | E19: 0 | F19: 0 | G19: 0 | H19: 0 | I19: 0 | J19: 0 | K19: 0 | L19: 0 | M19: 0 | N19: 0 | O19: =SUM(C19:N19) -> 0 | P19: =AVERAGE(C19:N19) -> 0 | R19: 0 | S19: 0 | T19: 0 | U19: 0 | V19: 0 | W19: 0 | X19: 0 | Y19: 0 | Z19: 0 | AA19: 0 | AB19: 0 | AC19: 0 | AD19: =SUM(R19:AC19) -> 0 | AE19: =AVERAGE(R19:AC19) -> 0
B20: Product/ Service 4 | C20: 0 | D20: 0 | E20: 0 | F20: 0 | G20: 0 | H20: 0 | I20: 0 | J20: 0 | K20: 0 | L20: 0 | M20: 0 | N20: 0 | O20: =SUM(C20:N20) -> 0 | P20: =AVERAGE(C20:N20) -> 0 | R20: 0 | S20: 0 | T20: 0 | U20: 0 | V20: 0 | W20: 0 | X20: 0 | Y20: 0 | Z20: 0 | AA20: 0 | AB20: 0 | AC20: 0 | AD20: =SUM(R20:AC20) -> 0 | AE20: =AVERAGE(R20:AC20) -> 0
B21: Product/ Service 5 | C21: 0 | D21: 0 | E21: 0 | F21: 0 | G21: 0 | H21: 0 | I21: 0 | J21: 0 | K21: 0 | L21: 0 | M21: 0 | N21: 0 | O21: =SUM(C21:N21) -> 0 | P21: =AVERAGE(C21:N21) -> 0 | R21: 0 | S21: 0 | T21: 0 | U21: 0 | V21: 0 | W21: 0 | X21: 0 | Y21: 0 | Z21: 0 | AA21: 0 | AB21: 0 | AC21: 0 | AD21: =SUM(R21:AC21) -> 0 | AE21: =AVERAGE(R21:AC21) -> 0
B23: Monthly Revenue
B24: Product/ Service 1 | C24: =C17*$C$6 -> 0 | D24: =D17*$C$6 -> 0 | E24: =E17*$C$6 -> 0 | F24: =F17*$C$6 -> 0 | G24: =G17*$C$6 -> 0 | H24: =H17*$C$6 -> 0 | I24: =I17*$C$6 -> 0 | J24: =J17*$C$6 -> 0 | ... N24: =N17*$C$6 -> 0 | O24: =SUM(C24:N24) -> 0 | P24: =AVERAGE(C24:N24) -> 0 | R24: =R17*$C$6 -> 0 | S24: =S17*$C$6 -> 0 | T24: =T17*$C$6 -> 0 | U24: =U17*$C$6 -> 0 | V24: =V17*$C$6 -> 0 | W24: =W17*$C$6 -> 0 | X24: =X17*$C$6 -> 0 | Y24: =Y17*$C$6 -> 0 | ... AC24: =AC17*$C$6 -> 0 | AD24: =SUM(R24:AC24) -> 0 | AE24: =AVERAGE(R24:AC24) -> 0
B25: Product/ Service 2 | C25: =C18*$C$7 -> 0 | D25: =D18*$C$7 -> 0 | E25: =E18*$C$7 -> 0 | F25: =F18*$C$7 -> 0 | G25: =G18*$C$7 -> 0 | H25: =H18*$C$7 -> 0 | I25: =I18*$C$7 -> 0 | J25: =J18*$C$7 -> 0 | ... N25: =N18*$C$7 -> 0 | O25: =SUM(C25:N25) -> 0 | P25: =AVERAGE(C25:N25) -> 0 | R25: =R18*$C$7 -> 0 | S25: =S18*$C$7 -> 0 | T25: =T18*$C$7 -> 0 | U25: =U18*$C$7 -> 0 | V25: =V18*$C$7 -> 0 | W25: =W18*$C$7 -> 0 | X25: =X18*$C$7 -> 0 | Y25: =Y18*$C$7 -> 0 | ... AC25: =AC18*$C$7 -> 0 | AD25: =SUM(R25:AC25) -> 0 | AE25: =AVERAGE(R25:AC25) -> 0
B26: Product/ Service 3 | C26: =C19*$C$8 -> 0 | D26: =D19*$C$8 -> 0 | E26: =E19*$C$8 -> 0 | F26: =F19*$C$8 -> 0 | G26: =G19*$C$8 -> 0 | H26: =H19*$C$8 -> 0 | I26: =I19*$C$8 -> 0 | J26: =J19*$C$8 -> 0 | ... N26: =N19*$C$8 -> 0 | O26: =SUM(C26:N26) -> 0 | P26: =AVERAGE(C26:N26) -> 0 | R26: =R19*$C$8 -> 0 | S26: =S19*$C$8 -> 0 | T26: =T19*$C$8 -> 0 | U26: =U19*$C$8 -> 0 | V26: =V19*$C$8 -> 0 | W26: =W19*$C$8 -> 0 | X26: =X19*$C$8 -> 0 | Y26: =Y19*$C$8 -> 0 | ... AC26: =AC19*$C$8 -> 0 | AD26: =SUM(R26:AC26) -> 0 | AE26: =AVERAGE(R26:AC26) -> 0
B27: Product/ Service 4 | C27: =C20*$C$9 -> 0 | D27: =D20*$C$9 -> 0 | E27: =E20*$C$9 -> 0 | F27: =F20*$C$9 -> 0 | G27: =G20*$C$9 -> 0 | H27: =H20*$C$9 -> 0 | I27: =I20*$C$9 -> 0 | J27: =J20*$C$9 -> 0 | ... N27: =N20*$C$9 -> 0 | O27: =SUM(C27:N27) -> 0 | P27: =AVERAGE(C27:N27) -> 0 | R27: =R20*$C$9 -> 0 | S27: =S20*$C$9 -> 0 | T27: =T20*$C$9 -> 0 | U27: =U20*$C$9 -> 0 | V27: =V20*$C$9 -> 0 | W27: =W20*$C$9 -> 0 | X27: =X20*$C$9 -> 0 | Y27: =Y20*$C$9 -> 0 | ... AC27: =AC20*$C$9 -> 0 | AD27: =SUM(R27:AC27) -> 0 | AE27: =AVERAGE(R27:AC27) -> 0
B28: Product/ Service 5 | C28: =C21*$C$10 -> 0 | D28: =D21*$C$10 -> 0 | E28: =E21*$C$10 -> 0 | F28: =F21*$C$10 -> 0 | G28: =G21*$C$10 -> 0 | H28: =H21*$C$10 -> 0 | I28: =I21*$C$10 -> 0 | J28: =J21*$C$10 -> 0 | ... N28: =N21*$C$10 -> 0 | O28: =SUM(C28:N28) -> 0 | P28: =AVERAGE(C28:N28) -> 0 | R28: =R21*$C$10 -> 0 | S28: =S21*$C$10 -> 0 | T28: =T21*$C$10 -> 0 | U28: =U21*$C$10 -> 0 | V28: =V21*$C$10 -> 0 | W28: =W21*$C$10 -> 0 | X28: =X21*$C$10 -> 0 | Y28: =Y21*$C$10 -> 0 | ... AC28: =AC21*$C$10 -> 0 | AD28: =SUM(R28:AC28) -> 0 | AE28: =AVERAGE(R28:AC28) -> 0
C29: =SUM(C24:C28) -> 0 | D29: =SUM(D24:D28) -> 0 | E29: =SUM(E24:E28) -> 0 | F29: =SUM(F24:F28) -> 0 | G29: =SUM(G24:G28) -> 0 | H29: =SUM(H24:H28) -> 0 | I29: =SUM(I24:I28) -> 0 | J29: =SUM(J24:J28) -> 0 | ... P29: =SUM(P24:P28) -> 0 | R29: =SUM(R24:R28) -> 0 | S29: =SUM(S24:S28) -> 0 | T29: =SUM(T24:T28) -> 0 | U29: =SUM(U24:U28) -> 0 | V29: =SUM(V24:V28) -> 0 | W29: =SUM(W24:W28) -> 0 | X29: =SUM(X24:X28) -> 0 | Y29: =SUM(Y24:Y28) -> 0 | ... AE29: =SUM(AE24:AE28) -> 0
B31: Monthly Direct Costs
B32: Product/ Service 1 | C32: =C17*$G$6 -> 0 | D32: =D17*$G$6 -> 0 | E32: =E17*$G$6 -> 0 | F32: =F17*$G$6 -> 0 | G32: =G17*$G$6 -> 0 | H32: =H17*$G$6 -> 0 | I32: =I17*$G$6 -> 0 | J32: =J17*$G$6 -> 0 | ... N32: =N17*$G$6 -> 0 | O32: =SUM(C32:N32) -> 0 | P32: =AVERAGE(C32:N32) -> 0 | R32: =R17*$G$6 -> 0 | S32: =S17*$G$6 -> 0 | T32: =T17*$G$6 -> 0 | U32: =U17*$G$6 -> 0 | V32: =V17*$G$6 -> 0 | W32: =W17*$G$6 -> 0 | X32: =X17*$G$6 -> 0 | Y32: =Y17*$G$6 -> 0 | ... AC32: =AC17*$G$6 -> 0 | AD32: =SUM(R32:AC32) -> 0 | AE32: =AVERAGE(R32:AC32) -> 0
B33: Product/ Service 2 | C33: =C18*$G$7 -> 0 | D33: =D18*$G$7 -> 0 | E33: =E18*$G$7 -> 0 | F33: =F18*$G$7 -> 0 | G33: =G18*$G$7 -> 0 | H33: =H18*$G$7 -> 0 | I33: =I18*$G$7 -> 0 | J33: =J18*$G$7 -> 0 | ... N33: =N18*$G$7 -> 0 | O33: =SUM(C33:N33) -> 0 | P33: =AVERAGE(C33:N33) -> 0 | R33: =R18*$G$7 -> 0 | S33: =S18*$G$7 -> 0 | T33: =T18*$G$7 -> 0 | U33: =U18*$G$7 -> 0 | V33: =V18*$G$7 -> 0 | W33: =W18*$G$7 -> 0 | X33: =X18*$G$7 -> 0 | Y33: =Y18*$G$7 -> 0 | ... AC33: =AC18*$G$7 -> 0 | AD33: =SUM(R33:AC33) -> 0 | AE33: =AVERAGE(R33:AC33) -> 0
B34: Product/ Service 3 | C34: =C19*$G$8 -> 0 | D34: =D19*$G$8 -> 0 | E34: =E19*$G$8 -> 0 | F34: =F19*$G$8 -> 0 | G34: =G19*$G$8 -> 0 | H34: =H19*$G$8 -> 0 | I34: =I19*$G$8 -> 0 | J34: =J19*$G$8 -> 0 | ... N34: =N19*$G$8 -> 0 | O34: =SUM(C34:N34) -> 0 | P34: =AVERAGE(C34:N34) -> 0 | R34: =R19*$G$8 -> 0 | S34: =S19*$G$8 -> 0 | T34: =T19*$G$8 -> 0 | U34: =U19*$G$8 -> 0 | V34: =V19*$G$8 -> 0 | W34: =W19*$G$8 -> 0 | X34: =X19*$G$8 -> 0 | Y34: =Y19*$G$8 -> 0 | ... AC34: =AC19*$G$8 -> 0 | AD34: =SUM(R34:AC34) -> 0 | AE34: =AVERAGE(R34:AC34) -> 0
B35: Product/ Service 4 | C35: =C20*$G$9 -> 0 | D35: =D20*$G$9 -> 0 | E35: =E20*$G$9 -> 0 | F35: =F20*$G$9 -> 0 | G35: =G20*$G$9 -> 0 | H35: =H20*$G$9 -> 0 | I35: =I20*$G$9 -> 0 | J35: =J20*$G$9 -> 0 | ... N35: =N20*$G$9 -> 0 | O35: =SUM(C35:N35) -> 0 | P35: =AVERAGE(C35:N35) -> 0 | R35: =R20*$G$9 -> 0 | S35: =S20*$G$9 -> 0 | T35: =T20*$G$9 -> 0 | U35: =U20*$G$9 -> 0 | V35: =V20*$G$9 -> 0 | W35: =W20*$G$9 -> 0 | X35: =X20*$G$9 -> 0 | Y35: =Y20*$G$9 -> 0 | ... AC35: =AC20*$G$9 -> 0 | AD35: =SUM(R35:AC35) -> 0 | AE35: =AVERAGE(R35:AC35) -> 0
B36: Product/ Service 5 | C36: =C21*$G$10 -> 0 | D36: =D21*$G$10 -> 0 | E36: =E21*$G$10 -> 0 | F36: =F21*$G$10 -> 0 | G36: =G21*$G$10 -> 0 | H36: =H21*$G$10 -> 0 | I36: =I21*$G$10 -> 0 | J36: =J21*$G$10 -> 0 | ... N36: =N21*$G$10 -> 0 | O36: =SUM(C36:N36) -> 0 | P36: =AVERAGE(C36:N36) -> 0 | R36: =R21*$G$10 -> 0 | S36: =S21*$G$10 -> 0 | T36: =T21*$G$10 -> 0 | U36: =U21*$G$10 -> 0 | V36: =V21*$G$10 -> 0 | W36: =W21*$G$10 -> 0 | X36: =X21*$G$10 -> 0 | Y36: =Y21*$G$10 -> 0 | ... AC36: =AC21*$G$10 -> 0 | AD36: =SUM(R36:AC36) -> 0 | AE36: =AVERAGE(R36:AC36) -> 0
C37: =SUM(C32:C36) -> 0 | D37: =SUM(D32:D36) -> 0 | E37: =SUM(E32:E36) -> 0 | F37: =SUM(F32:F36) -> 0 | G37: =SUM(G32:G36) -> 0 | H37: =SUM(H32:H36) -> 0 | I37: =SUM(I32:I36) -> 0 | J37: =SUM(J32:J36) -> 0 | ... P37: =SUM(P32:P36) -> 0 | R37: =SUM(R32:R36) -> 0 | S37: =SUM(S32:S36) -> 0 | T37: =SUM(T32:T36) -> 0 | U37: =SUM(U32:U36) -> 0 | V37: =SUM(V32:V36) -> 0 | W37: =SUM(W32:W36) -> 0 | X37: =SUM(X32:X36) -> 0 | Y37: =SUM(Y32:Y36) -> 0 | ... AE37: =SUM(AE32:AE36) -> 0

Sheet Expenses Assumptions
B1: Mohammed Bin Rashid Fund for SME
B2: Expenses Assumptions
B3: [NAME OF THE COMPANY]
B5: 1. Office Rent: as per the leasing contract internal area to be AED X psft and external area to be AED X psft. The total area required is X square feet.
B7: Rent per sqft for the 1st year (Annually) | C7: 0 | E7: Area in m is | G7: 0 | I7: Area in sqft is | J7: 0
B10: Rent for the 1st year = | C10: =C7*J7 -> 0 | E10: Security Deposit | F10: 0
B12: 2. Staff Accomodation Costs - Annually | C12: 0
B14: 3. Marketing & Advertising (Annually)
B16: Annual Advertising & Marketing Budget | C16: Total Cost | D16: 0
B18: 4. Insurance:The insurance will be incurred over the following items
C20: Insurance Fees
B21: Business Insurance (Annually) | C21: 0
B23: Total | C23: =SUM(C21:C22) -> 0
B25: 5. License Issuance Fees (Annually) | C25: Year 1 | D25: 4020 | F25: Year 2 - 3 | G25: 1020 | I25: Year 4 - 5 | J25: 2020 | L25: Year 6 | M25: 0 | O25: Year 7 | P25: 0 | R25: Year 8 | S25: 0
B27: 6. Utilities: Elect & Water / Bike Petol + Salik, Telephone & Internet & Gas (Monthly)
B29: DEWA - Utility Bill | C29: 0
B30: Transportation | C30: 0
B31: Telephone & Internet | C31: 0
B32: Parking | C32: 0
B34: Total | C34: =SUM(C29:C32) -> 0
B36: 7. Repairs & Maintenance (Annually)
B38: Asset | C38: Amount | D38: Maintenance Rate Fee | E38: Repairs & Maintenance Costs
C39: 0 | D39: 0 | E39: =C39*D39 -> 0
D40: 0 | E40: =C40*D40 -> 0
D41: 0 | E41: =C41*D41 -> 0
D42: 0 | E42: =C42*D42 -> 0
D43: 0 | E43: =C43*D43 -> 0
D44: 0 | E44: =C44*D44 -> 0
B46: Total | C46: =SUM(C39:C45) -> 0 | E46: =SUM(E39:E45) -> 0
B47: Yearly maintenance expenses equal to | E47: =E46 -> 0
B49: 8. Printing & Stationery inlcuding brochures and other marketing material (Annually) :
B51: Annual Budget | C51: 0
B53: 9. Accounting Fees (Monthly) | C53: 0
B55: 10. Annual domain charges (Annually) | C55: 0
B57: Website Hosting Charges (Annually) | C57: 0
B59: 11. IOS + Playstore Registration charges (Annually)
B60: IOS | C60: 0
B61: Playstore | C61: 0
B63: 12. Staff Training Expenses (Annually) | C63: 0
B65: 13. Payment Gateway Maintenance Charges (Annually) | C65: 0
...

Sheet Staffing Plan
B1: Mohammed Bin Rashid Fund for SME
B2: Staffing Plan
B3: [NAME OF THE COMPANY]
C5: Staff Recruitment Cost per Staff | E5: 6000
E7: Addlocks
E9: Staff Count Summary
C10: Designation | D10: Salary (AED) | E10: Month 1 | F10: Month 2 | G10: Month 3 | H10: Month 4 | I10: Month 5 | J10: Month 6 | K10: Month 7 | L10: Month 8 | M10: Month 9 | N10: Month 10 | O10: Month 11 | P10: Month 12 | Q10: Month 13 | R10: Month 14 | S10: Month 15 | T10: Month 16 | U10: Month 17 | V10: Month 18 | W10: Month 19 | X10: Month 20 | Y10: Month 21 | Z10: Month 22 | AA10: Month 23 | AB10: Month 24 | AC10: Head Count
C11: Staff 1 | D11: 0 | AC11: =SUM(E11:AB11) -> 0
C12: Staff 2 | D12: 0 | AC12: =SUM(E12:AB12) -> 0
C13: Staff 3 | D13: 0 | AC13: =SUM(E13:AB13) -> 0
C14: Staff 4 | D14: 0 | AC14: =SUM(E14:AB14) -> 0
C15: Staff 5 | D15: 0 | AC15: =SUM(E15:AB15) -> 0
C16: Staff 6 | D16: 0 | AC16: =SUM(E16:AB16) -> 0
C17: Staff 7 | D17: 0 | AC17: =SUM(E17:AB17) -> 0
C19: Total Staff Count | E19: =SUM(E11:E18) -> 0 | F19: =SUM(F11:F18)+E19 -> 0 | G19: =SUM(G11:G18)+F19 -> 0 | H19: =SUM(H11:H18)+G19 -> 0 | I19: =SUM(I11:I18)+H19 -> 0 | J19: =SUM(J11:J18)+I19 -> 0 | K19: =SUM(K11:K18)+J19 -> 0 | L19: =SUM(L11:L18)+K19 -> 0 | M19: =SUM(M11:M18)+L19 -> 0 | ... AB19: =SUM(AB11:AB18)+AA19 -> 0 | AC19: =SUM(AC11:AC18) -> 0
E23: Year 1 & 2 Staff Recruitment Plan with Salary Provisioning
C24: Designation | D24: Salary (AED) | E24: Month 1 | F24: Month 2 | G24: Month 3 | H24: Month 4 | I24: Month 5 | J24: Month 6 | K24: Month 7 | L24: Month 8 | M24: Month 9 | N24: Month 10 | O24: Month 11 | P24: Month 12 | Q24: Month 13 | R24: Month 14 | S24: Month 15 | T24: Month 16 | U24: Month 17 | V24: Month 18 | W24: Month 19 | X24: Month 20 | Y24: Month 21 | Z24: Month 22 | AA24: Month 23 | AB24: Month 24
C25: Staff 1 | D25: =D11 -> 0 | E25: =E11*$D11 -> 0 | F25: =F11*$D11 -> 0 | G25: =G11*$D11 -> 0 | H25: =H11*$D11 -> 0 | I25: =I11*$D11 -> 0 | J25: =J11*$D11 -> 0 | K25: =K11*$D11 -> 0 | L25: =L11*$D11 -> 0 | ... AB25: =AB11*$D11 -> 0
C26: Staff 2 | D26: =D12 -> 0 | E26: =E12*$D12 -> 0 | F26: =F12*$D12 -> 0 | G26: =G12*$D12 -> 0 | H26: =H12*$D12 -> 0 | I26: =I12*$D12 -> 0 | J26: =J12*$D12 -> 0 | K26: =K12*$D12 -> 0 | L26: =L12*$D12 -> 0 | ... AB26: =AB12*$D12 -> 0
C27: Staff 3 | D27: =D13 -> 0 | E27: =E13*$D13 -> 0 | F27: =F13*$D13 -> 0 | G27: =G13*$D13 -> 0 | H27: =H13*$D13 -> 0 | I27: =I13*$D13 -> 0 | J27: =J13*$D13 -> 0 | K27: =K13*$D13 -> 0 | L27: =L13*$D13 -> 0 | ... AB27: =AB13*$D13 -> 0
C28: Staff 4 | D28: =D14 -> 0 | E28: =E14*$D14 -> 0 | F28: =F14*$D14 -> 0 | G28: =G14*$D14 -> 0 | H28: =H14*$D14 -> 0 | I28: =I14*$D14 -> 0 | J28: =J14*$D14 -> 0 | K28: =K14*$D14 -> 0 | L28: =L14*$D14 -> 0 | ... AB28: =AB14*$D14 -> 0
C29: Staff 5 | D29: =D15 -> 0 | E29: =E15*$D15 -> 0 | F29: =F15*$D15 -> 0 | G29: =G15*$D15 -> 0 | H29: =H15*$D15 -> 0 | I29: =I15*$D15 -> 0 | J29: =J15*$D15 -> 0 | K29: =K15*$D15 -> 0 | L29: =L15*$D15 -> 0 | ... AB29: =AB15*$D15 -> 0
C30: Staff 6 | D30: =D16 -> 0 | E30: =E16*$D16 -> 0 | F30: =F16*$D16 -> 0 | G30: =G16*$D16 -> 0 | H30: =H16*$D16 -> 0 | I30: =I16*$D16 -> 0 | J30: =J16*$D16 -> 0 | K30: =K16*$D16 -> 0 | L30: =L16*$D16 -> 0 | ... AB30: =AB16*$D16 -> 0
C31: Staff 7 | D31: =D17 -> 0 | E31: =E17*$D17 -> 0 | F31: =F17*$D17 -> 0 | G31: =G17*$D17 -> 0 | H31: =H17*$D17 -> 0 | I31: =I17*$D17 -> 0 | J31: =J17*$D17 -> 0 | K31: =K17*$D17 -> 0 | L31: =L17*$D17 -> 0 | ... AB31: =AB17*$D17 -> 0
E32: =E18*$D18 -> 0 | F32: =F18*$D18 -> 0 | G32: =G18*$D18 -> 0 | H32: =H18*$D18 -> 0 | I32: =I18*$D18 -> 0 | J32: =J18*$D18 -> 0 | K32: =K18*$D18 -> 0 | L32: =L18*$D18 -> 0 | ... AB32: =AB18*$D18 -> 0
C33: Total Monthly Staff Salary Payout | E33: =SUM(E25:E32) -> 0 | F33: =SUM(F25:F32)+E33 -> 0 | G33: =SUM(G25:G32)+F33 -> 0 | H33: =SUM(H25:H32)+G33 -> 0 | I33: =SUM(I25:I32)+H33 -> 0 | J33: =SUM(J25:J32)+I33 -> 0 | K33: =SUM(K25:K32)+J33 -> 0 | L33: =SUM(L25:L32)+K33 -> 0 | M33: =SUM(M25:M32)+L33 -> 0 | ... AB33: =SUM(AB25:AB32)+AA33 -> 0
C35: Total Monthly Staff Recruitment Cost | E35: =E19*E5 -> 0 | F35: =IF(F19-E19>0,(F19-E19)*$E$5,0) -> 0 | G35: =IF(G19-F19>0,(G19-F19)*$E$5,0) -> 0 | H35: =IF(H19-G19>0,(H19-G19)*$E$5,0) -> 0 | I35: =IF(I19-H19>0,(I19-H19)*$E$5,0) -> 0 | J35: =IF(J19-I19>0,(J19-I19)*$E$5,0) -> 0 | K35: =IF(K19-J19>0,(K19-J19)*$E$5,0) -> 0 | L35: =IF(L19-K19>0,(L19-K19)*$E$5,0) -> 0 | M35: =IF(M19-L19>0,(M19-L19)*$E$5,0) -> 0 | ... AB35: =IF(AB19-AA19>0,(AB19-AA19)*$E$5,0) -> 0

Sheet Total Project Cost
B3: Mohammed Bin Rashid Fund for SME
B4: Total Project Cost Breakup
B5: [NAME OF THE COMPANY]
B7: Total Project Cost | C7: Total Project Cost Amount (AED) | D7: % of Total Project Cost | E7: MBRF Loan (AED) | F7: Equity Already Contributed by Applicant (AED) | G7: Equity Yet to Be Contributed by Applicant (AED) | H7: Total (AED) | I7: Notes/Remarks
B8: CAPITAL EXPENSES
B9: Machinery | D9: =IFERROR((C9/$C$56),0) -> 0 | E9: =C9-F9-G9 -> 0 | H9: =E9+F9+G9 -> 0
B10: Equipment | D10: =IFERROR((C10/$C$56),0) -> 0 | E10: =C10-F10-G10 -> 0 | H10: =E10+F10+G10 -> 0
B11: IT Infrastructure (Hardware and Software) | D11: =IFERROR((C11/$C$56),0) -> 0 | E11: =C11-F11-G11 -> 0 | H11: =E11+F11+G11 -> 0
B12: Fit Out Contractor | D12: =IFERROR((C12/$C$56),0) -> 0 | E12: =C12-F12-G12 -> 0 | H12: =E12+F12+G12 -> 0
B13: Interiors work | D13: =IFERROR((C13/$C$56),0) -> 0 | E13: =C13-F13-G13 -> 0 | H13: =E13+F13+G13 -> 0
B14: Furniture | D14: =IFERROR((C14/$C$56),0) -> 0 | E14: =C14-F14-G14 -> 0 | H14: =E14+F14+G14 -> 0
B15: Vehicles | D15: =IFERROR((C15/$C$56),0) -> 0 | E15: =C15-F15-G15 -> 0 | H15: =E15+F15+G15 -> 0
B16: Website and App Development Costs | D16: =IFERROR((C16/$C$56),0) -> 0 | E16: =C16-F16-G16 -> 0 | H16: =E16+F16+G16 -> 0
B17: POS System | D17: =IFERROR((C17/$C$56),0) -> 0 | E17: =C17-F17-G17 -> 0 | H17: =E17+F17+G17 -> 0
B18: Others if any
B21: Total Capital Expenses | C21: =SUM(C9:C20) -> 0 | D21: =SUM(D9:D20) -> 0 | E21: =SUM(E9:E20) -> 0 | F21: =SUM(F9:F20) -> 0 | G21: =SUM(G9:G20) -> 0 | H21: =SUM(H9:H20) -> 0
B22: PRE-OPERATING EXPENSES
B23: Legal Fees | D23: =IFERROR((C23/$C$56),0) -> 0 | E23: =C23-F23-G23 -> 0 | H23: =E23+F23+G23 -> 0
B24: Staff Recruitment (Legal + Insurance) | D24: =IFERROR((C24/$C$56),0) -> 0 | E24: =C24-F24-G24 -> 0 | H24: =E24+F24+G24 -> 0
B25: License Fees | D25: =IFERROR((C25/$C$56),0) -> 0 | E25: =C25-F25-G25 -> 0 | H25: =E25+F25+G25 -> 0
B26: Pre-Opex Staff Salaries | D26: =IFERROR((C26/$C$56),0) -> 0 | E26: =C26-F26-G26 -> 0 | H26: =E26+F26+G26 -> 0
B27: Pre-Opex Marketing and Advertising | D27: =IFERROR((C27/$C$56),0) -> 0 | E27: =C27-F27-G27 -> 0 | H27: =E27+F27+G27 -> 0
B28: Pre-Opex Rent | D28: =IFERROR((C28/$C$56),0) -> 0 | E28: =C28-F28-G28 -> 0 | H28: =E28+F28+G28 -> 0
B29: Pre-Opex Utilities | D29: =IFERROR((C29/$C$56),0) -> 0 | E29: =C29-F29-G29 -> 0 | H29: =E29+F29+G29 -> 0
B30: Pre-Opex Raw Materials | D30: =IFERROR((C30/$C$56),0) -> 0 | E30: =C30-F30-G30 -> 0 | H30: =E30+F30+G30 -> 0
B31: Domain Fees | D31: =IFERROR((C31/$C$56),0) -> 0 | E31: =C31-F31-G31 -> 0 | H31: =E31+F31+G31 -> 0
B32: Hosting Fees (Website/App + Server) | D32: =IFERROR((C32/$C$56),0) -> 0 | E32: =C32-F32-G32 -> 0 | H32: =E32+F32+G32 -> 0
B33: IOS and Playstore Regitration Charges | D33: =IFERROR((C33/$C$56),0) -> 0 | E33: =C33-F33-G33 -> 0 | H33: =E33+F33+G33 -> 0
B34: Staff Training | D34: =IFERROR((C34/$C$56),0) -> 0 | E34: =C34-F34-G34 -> 0 | H34: =E34+F34+G34 -> 0
... B37: Franchise Fees | D37: =IFERROR((C37/$C$56),0) -> 0 | E37: =C37-F37-G37 -> 0 | H37: =E37+F37+G37 -> 0
B39: Total Pre-Operating Expenses | C39: =SUM(C23:C38) -> 0 | D39: =SUM(D23:D38) -> 0 | E39: =SUM(E23:E38) -> 0 | F39: =SUM(F23:F38) -> 0 | G39: =SUM(G23:G38) -> 0 | H39: =SUM(H23:H38) -> 0 | I39: =SUM(I23:I38) -> 0
B40: OPERATIONAL EXPENSES (Covered for 6 months Max)
B41: Raw Materials | D41: =IFERROR((C41/$C$56),0) -> 0 | E41: =C41-F41-G41 -> 0 | H41: =E41+F41+G41 -> 0
B42: Rent | D42: =IFERROR((C42/$C$56),0) -> 0 | E42: =C42-F42-G42 -> 0 | H42: =E42+F42+G42 -> 0
B43: Salaries | D43: =IFERROR((C43/$C$56),0) -> 0 | E43: =C43-F43-G43 -> 0 | H43: =E43+F43+G43 -> 0
B44: Utilities | D44: =IFERROR((C44/$C$56),0) -> 0 | E44: =C44-F44-G44 -> 0 | H44: =E44+F44+G44 -> 0
B45: Marketing & Advertising | D45: =IFERROR((C45/$C$56),0) -> 0 | E45: =C45-F45-G45 -> 0 | H45: =E45+F45+G45 -> 0
B46: Accounting Fees | D46: =IFERROR((C46/$C$56),0) -> 0 | E46: =C46-F46-G46 -> 0 | H46: =E46+F46+G46 -> 0
B47: Website and Application Maintenance Charges | D47: =IFERROR((C47/$C$56),0) -> 0 | E47: =C47-F47-G47 -> 0 | H47: =E47+F47+G47 -> 0
B48: Payment Gateway Maintenance | D48: =IFERROR((C48/$C$56),0) -> 0 | E48: =C48-F48-G48 -> 0 | H48: =E48+F48+G48 -> 0
...
